BEGIN:VCALENDAR
VERSION:2.0
PRODID:-//Walhardent - ECPv6.15.20//NONSGML v1.0//EN
CALSCALE:GREGORIAN
METHOD:PUBLISH
X-ORIGINAL-URL:https://www.walhardent.be
X-WR-CALDESC:Évènements pour Walhardent
REFRESH-INTERVAL;VALUE=DURATION:PT1H
X-Robots-Tag:noindex
X-PUBLISHED-TTL:PT1H
BEGIN:VTIMEZONE
TZID:Europe/Paris
BEGIN:DAYLIGHT
TZOFFSETFROM:+0100
TZOFFSETTO:+0200
TZNAME:CEST
DTSTART:20250330T010000
END:DAYLIGHT
BEGIN:STANDARD
TZOFFSETFROM:+0200
TZOFFSETTO:+0100
TZNAME:CET
DTSTART:20251026T010000
END:STANDARD
BEGIN:DAYLIGHT
TZOFFSETFROM:+0100
TZOFFSETTO:+0200
TZNAME:CEST
DTSTART:20260329T010000
END:DAYLIGHT
BEGIN:STANDARD
TZOFFSETFROM:+0200
TZOFFSETTO:+0100
TZNAME:CET
DTSTART:20261025T010000
END:STANDARD
BEGIN:DAYLIGHT
TZOFFSETFROM:+0100
TZOFFSETTO:+0200
TZNAME:CEST
DTSTART:20270328T010000
END:DAYLIGHT
BEGIN:STANDARD
TZOFFSETFROM:+0200
TZOFFSETTO:+0100
TZNAME:CET
DTSTART:20271031T010000
END:STANDARD
END:VTIMEZONE
BEGIN:VEVENT
DTSTART;TZID=Europe/Paris:20260423T180000
DTEND;TZID=Europe/Paris:20260423T210000
DTSTAMP:20260421T124012
CREATED:20260327T083641Z
LAST-MODIFIED:20260327T083641Z
UID:11821-1776967200-1776978000@www.walhardent.be
SUMMARY:Atelier pratique "Un dos pour durer" - Rotterdam 21
DESCRIPTION:ATELIER PRATIQUE « Un dos pour durer »\nUn atelier pour investir votre dos avec conscience\, légèreté et plaisir… pour durer. \nVous avez mal au dos ? Vous sentez que vos postures\, le stress ou vos habitudes de mouvement finissent par peser sur votre colonne ? Et si vous pouviez transformer votre dos de façon simple\, ludique et durable ? \nDenis Dropsy vous propose une approche pédagogique\, inspirée de méthodes modernes\, qui mise sur l’expérimentation et les ressentis. Venez en tenue décontractée car vous serez aussi bien au sol que debout\, en chaussettes ou à pieds nus. \nIl animera le jeudi 16 avril\, un atelier avec des exercices concrets\, des métaphores et des outils pratiques. \nAvis de Véronique \n« Cette séance dorsale repose sur une philosophie particulière : celle qui place la relation étroite entre le corps et l’esprit au centre de l’attention. Il ne s’agit pas seulement de mouvement\, mais aussi de conscience et d’une compréhension profonde de la manière dont nos pensées\, nos émotions et nos gestes sont intimement liés. Dans ces moments de pleine attention\, même lorsque le corps est immobile\, la séance continue d’ agir dans l’esprit. On apprend à bouger d’une manière qui protège le dos\, dans la vie quotidienne comme dans la pratique. »
URL:https://www.walhardent.be/evenement/atelier-pratique-un-dos-pour-durer-rotterdam-21/
LOCATION:Rotterdam 21\, rue de Roterdam 21\, LIEGE\, Liège\, 4000\, Belgique
CATEGORIES:Ateliers-formations,Rencontres
ATTACH;FMTTYPE=image/jpeg:https://www.walhardent.be/wp-content/uploads/2025/11/Rotterdam-21.jpg
ORGANIZER;CN="Rotterdam 21":MAILTO:contact@rotterdam21.com
END:VEVENT
END:VCALENDAR