BEGIN:VCALENDAR
VERSION:2.0
PRODID:-//Walhardent - ECPv6.15.20//NONSGML v1.0//EN
CALSCALE:GREGORIAN
METHOD:PUBLISH
X-WR-CALNAME:Walhardent
X-ORIGINAL-URL:https://www.walhardent.be
X-WR-CALDESC:Évènements pour Walhardent
REFRESH-INTERVAL;VALUE=DURATION:PT1H
X-Robots-Tag:noindex
X-PUBLISHED-TTL:PT1H
BEGIN:VTIMEZONE
TZID:Europe/Paris
BEGIN:DAYLIGHT
TZOFFSETFROM:+0100
TZOFFSETTO:+0200
TZNAME:CEST
DTSTART:20250330T010000
END:DAYLIGHT
BEGIN:STANDARD
TZOFFSETFROM:+0200
TZOFFSETTO:+0100
TZNAME:CET
DTSTART:20251026T010000
END:STANDARD
BEGIN:DAYLIGHT
TZOFFSETFROM:+0100
TZOFFSETTO:+0200
TZNAME:CEST
DTSTART:20260329T010000
END:DAYLIGHT
BEGIN:STANDARD
TZOFFSETFROM:+0200
TZOFFSETTO:+0100
TZNAME:CET
DTSTART:20261025T010000
END:STANDARD
BEGIN:DAYLIGHT
TZOFFSETFROM:+0100
TZOFFSETTO:+0200
TZNAME:CEST
DTSTART:20270328T010000
END:DAYLIGHT
BEGIN:STANDARD
TZOFFSETFROM:+0200
TZOFFSETTO:+0100
TZNAME:CET
DTSTART:20271031T010000
END:STANDARD
END:VTIMEZONE
BEGIN:VEVENT
DTSTART;TZID=Europe/Paris:20260326T120000
DTEND;TZID=Europe/Paris:20260326T140000
DTSTAMP:20260421T213416
CREATED:20260324T093444Z
LAST-MODIFIED:20260324T093444Z
UID:11750-1774526400-1774533600@www.walhardent.be
SUMMARY:Redresser Proximus - CWB
DESCRIPTION:Redresser Proximus : ce que Stijn Bijnens veut changer \nAvec la présence de : \nStijn Bijnens\nChief Executive Officer – Proximus Group \n  \nPrésenté par : \nManuel Pallage\nCEO – NSI IT Software & Services \nPrendre la tête de Proximus aujourd’hui\, ce n’est pas hériter d’une entreprise “à piloter”. C’est prendre un groupe que tout le monde observe\, et devoir redresser la trajectoire sous les projecteurs. \nDans ce contexte\, les résultats ne suffisent pas : il faut un cap lisible. Pour les équipes\, pour les clients\, pour les actionnaires… et parfois pour tout un pays. \nStijn Bijnens arrive avec une intention claire : remettre Proximus d’aplomb. Pas en empilant les promesses\, mais en tranchant : ce qui doit être consolidé\, ce qui doit être corrigé\, et ce qui doit redevenir non négociable pour recréer de l’élan. \nIl sera au Cercle de Wallonie-Bruxelles et vous donnera accès à sa lecture des enjeux\, et surtout à ses objectifs : comment il compte redresser\, simplifier\, reprendre de la valeur\, et remettre la machine sur une trajectoire compréhensible et mobilisatrice. \n 
URL:https://www.walhardent.be/evenement/redresser-proximus-cwb/
LOCATION:Château Val Saint-Lambert\, rue du Val Saint Lambert\, 245\, SERAING\, Liège\, 4100\, Belgique
CATEGORIES:Conférence,Lunch-Débat
ATTACH;FMTTYPE=image/png:https://www.walhardent.be/wp-content/uploads/2020/03/LogoCw.png
ORGANIZER;CN="Cercle de Wallonie":MAILTO:info@cercledewallonie.com
END:VEVENT
END:VCALENDAR