BEGIN:VCALENDAR
VERSION:2.0
PRODID:-//Walhardent - ECPv6.15.20//NONSGML v1.0//EN
CALSCALE:GREGORIAN
METHOD:PUBLISH
X-ORIGINAL-URL:https://www.walhardent.be
X-WR-CALDESC:Évènements pour Walhardent
REFRESH-INTERVAL;VALUE=DURATION:PT1H
X-Robots-Tag:noindex
X-PUBLISHED-TTL:PT1H
BEGIN:VTIMEZONE
TZID:Europe/Paris
BEGIN:DAYLIGHT
TZOFFSETFROM:+0100
TZOFFSETTO:+0200
TZNAME:CEST
DTSTART:20250330T010000
END:DAYLIGHT
BEGIN:STANDARD
TZOFFSETFROM:+0200
TZOFFSETTO:+0100
TZNAME:CET
DTSTART:20251026T010000
END:STANDARD
BEGIN:DAYLIGHT
TZOFFSETFROM:+0100
TZOFFSETTO:+0200
TZNAME:CEST
DTSTART:20260329T010000
END:DAYLIGHT
BEGIN:STANDARD
TZOFFSETFROM:+0200
TZOFFSETTO:+0100
TZNAME:CET
DTSTART:20261025T010000
END:STANDARD
BEGIN:DAYLIGHT
TZOFFSETFROM:+0100
TZOFFSETTO:+0200
TZNAME:CEST
DTSTART:20270328T010000
END:DAYLIGHT
BEGIN:STANDARD
TZOFFSETFROM:+0200
TZOFFSETTO:+0100
TZNAME:CET
DTSTART:20271031T010000
END:STANDARD
END:VTIMEZONE
BEGIN:VEVENT
DTSTART;TZID=Europe/Paris:20260521T113000
DTEND;TZID=Europe/Paris:20260521T143000
DTSTAMP:20260425T040917
CREATED:20260324T105044Z
LAST-MODIFIED:20260324T105044Z
UID:11765-1779363000-1779373800@www.walhardent.be
SUMMARY:Les choix du nouveau CEO du Monde Sauvage : CWB
DESCRIPTION:Reprendre\, moderniser\, innover : les choix du nouveau CEO du Monde Sauvage d’Aywaille \nReprendre un lieu connu de tous\, ce n’est pas repartir de zéro. C’est décider avec un héritage sur les épaules\, une image à faire évoluer\, et peu de marge pour l’erreur. \nAu cœur du parc\, nous accueillerons Alexandre Dallemagne\, CEO du Monde Sauvage d’Aywaille\, pour ouvrir les coulisses d’une reprise : \nComment moderniser sans effacer ce qui fait l’âme du lieu\,\nComment repositionner une marque sans la dénaturer\,\nComment faire évoluer l’expérience sans tomber dans la surenchère.\nDu changement d’identité visuelle à l’intégration de technologies issues du monde de la Formule E dans le safari\, cette rencontre mettra en lumière des choix rarement racontés : ceux qui obligent à arbitrer entre respect de l’héritage\, innovation et cohérence. \nAvec la présence de : \nAlexandre Dallemagne\nCEO du Monde Sauvage d’Aywaille depuis 2024
URL:https://www.walhardent.be/evenement/les-choix-du-nouveau-ceo-du-monde-sauvage-cwb/
LOCATION:Aywaille\, Aywaille\, 4920\, Belgium
CATEGORIES:Conférence,Echanges Professionnels,Visite privée
ATTACH;FMTTYPE=image/png:https://www.walhardent.be/wp-content/uploads/2020/03/LogoCw.png
ORGANIZER;CN="Cercle de Wallonie":MAILTO:info@cercledewallonie.com
END:VEVENT
BEGIN:VEVENT
DTSTART;TZID=Europe/Paris:20260521T180000
DTEND;TZID=Europe/Paris:20260521T220000
DTSTAMP:20260425T040917
CREATED:20260327T085836Z
LAST-MODIFIED:20260327T085836Z
UID:11823-1779386400-1779400800@www.walhardent.be
SUMMARY:Soirée des Bourgmestres - Club Entreprises pays de Herve
DESCRIPTION:Soirée des Bourgmestres \nNous avons le plaisir de vous inviter à notre Grande Soirée Débat\, soirée qui marquera les 15 ans de la Soirée des Bourgmestres. \nLa soirée sera consacrée à un état des lieux de la réforme du chômage\, 6 mois après sa mise en œuvre sur le Plateau de Herve. \n 
URL:https://www.walhardent.be/evenement/soiree-des-bourgmestres-club-entreprises-pays-de-herve/
CATEGORIES:Débats,Rencontres,Soirées
ATTACH;FMTTYPE=image/png:https://www.walhardent.be/wp-content/uploads/2023/09/Club-des-entreprises-du-Pays-de-Herve.png
ORGANIZER;CN="Club Entreprises Pays de Herve (Club des EPH)":MAILTO:admin@clubehb.be
END:VEVENT
BEGIN:VEVENT
DTSTART;TZID=Europe/Paris:20260526T174500
DTEND;TZID=Europe/Paris:20260526T223000
DTSTAMP:20260425T040917
CREATED:20260320T094141Z
LAST-MODIFIED:20260320T094141Z
UID:11711-1779817500-1779834600@www.walhardent.be
SUMMARY:Mardi 26 mai 2026 - SymbiOZ et AKT - CCI LVN - Evénement Cross’Over : soirée découverte du Biathlon d’été
DESCRIPTION:Evénement Cross’Over : soirée découverte du Biathlon d’été\nLe mardi 26 mai de 17h45 à 22h30\, rejoignez-nous pour une soirée exceptionnelle de networking organisée conjointement par AKT – CCI LVN et SymbiOZ.🤝 \nAKT – CCI LVN et Symbioz vous invitent à nouveau à dépasser vos limites lors d’une soirée originale placée sous le signe d’une activité sportive accessible à tous\, où le plaisir\, le networking et la convivialité priment sur la performance. \n🏃‍♂️🎯Cette année\, venez découvrir la discipline du biathlon d’été lors d’une activité ludique\, accessible à tous et résolument conviviale\, même sans condition sportive particulière. \nL’objectif n’est pas la performance\, mais le plaisir de partager un moment dynamique et de réseauter dans une ambiance détendue.\nLe biathlon d’été est une adaptation du biathlon hivernal pratiqué normalement en ski de fond. Au lieu du ski\, les participants courent ou marchent\, puis alternent avec des épreuves de tir à la carabine (optique\, dans notre cas). \n📅Au programme :\n• 17h45 : accueil et constitution des équipes (3-4 personnes)\n• 18h15 : Initiation au biathlon d’été\n• 19h45 – 20h00 : vestiaires/douches\n• 20h00 : remise des prix🏆\n• 20h15 : repas et networking pour prolonger les échanges dans une atmosphère conviviale (pendant le repas et le networking\, un pas de tir sera installé sur la terrasse pour celles et ceux qui n’auraient pas eu l’occasion de s’essayer à la discipline) \nℹ️Informations pratiques :\n• Une tenue sportive est conseillée\n• Vestiaires et douches disponibles sur place\n• Les équipes seront constituées à l’arrivée\n• Jeux ludiques et coopératifs en équipe\n• Pas envie de participer à l’activité ? Prenez place dans les gradins et soutenez les participants en attendant la soirée de networking ! \nUne occasion idéale de rencontrer d’autres membres et entrepreneurs dans un cadre original et décontracté. \n 
URL:https://www.walhardent.be/evenement/mardi-26-mai-2026-symbioz-et-akt-cci-lvn-evenement-crossover-soiree-decouverte-du-biathlon-dete/
LOCATION:Province Naimette Arena\, Boulevard Léon Philippet\, 83\, LIEGE\, Liège\, 4000\, Belgium
CATEGORIES:Echanges Professionnels,Evènements,Rencontres,Réseautage - Networking
ATTACH;FMTTYPE=image/jpeg:https://www.walhardent.be/wp-content/uploads/2025/10/Symbioz.jpg
ORGANIZER;CN="SymbiOZ ASBL":MAILTO:info@symbioz.org
END:VEVENT
END:VCALENDAR