BEGIN:VCALENDAR
VERSION:2.0
PRODID:-//Walhardent - ECPv6.15.20//NONSGML v1.0//EN
CALSCALE:GREGORIAN
METHOD:PUBLISH
X-WR-CALNAME:Walhardent
X-ORIGINAL-URL:https://www.walhardent.be
X-WR-CALDESC:Évènements pour Walhardent
REFRESH-INTERVAL;VALUE=DURATION:PT1H
X-Robots-Tag:noindex
X-PUBLISHED-TTL:PT1H
BEGIN:VTIMEZONE
TZID:Europe/Paris
BEGIN:DAYLIGHT
TZOFFSETFROM:+0100
TZOFFSETTO:+0200
TZNAME:CEST
DTSTART:20250330T010000
END:DAYLIGHT
BEGIN:STANDARD
TZOFFSETFROM:+0200
TZOFFSETTO:+0100
TZNAME:CET
DTSTART:20251026T010000
END:STANDARD
BEGIN:DAYLIGHT
TZOFFSETFROM:+0100
TZOFFSETTO:+0200
TZNAME:CEST
DTSTART:20260329T010000
END:DAYLIGHT
BEGIN:STANDARD
TZOFFSETFROM:+0200
TZOFFSETTO:+0100
TZNAME:CET
DTSTART:20261025T010000
END:STANDARD
BEGIN:DAYLIGHT
TZOFFSETFROM:+0100
TZOFFSETTO:+0200
TZNAME:CEST
DTSTART:20270328T010000
END:DAYLIGHT
BEGIN:STANDARD
TZOFFSETFROM:+0200
TZOFFSETTO:+0100
TZNAME:CET
DTSTART:20271031T010000
END:STANDARD
END:VTIMEZONE
BEGIN:VEVENT
DTSTART;TZID=Europe/Paris:20260424T120000
DTEND;TZID=Europe/Paris:20260424T140000
DTSTAMP:20260425T024246
CREATED:20260327T093801Z
LAST-MODIFIED:20260327T093802Z
UID:11829-1777032000-1777039200@www.walhardent.be
SUMMARY:Webi’Lunch // Entreprendre sans s’épuiser - Réseau Diane
DESCRIPTION:Webi’Lunch // Entreprendre sans s’épuiser\nDiane\, le réseau d’affaires féminin boosté par UCM\, vous présente le Webi’Lunch « Entreprendre sans s’épuiser »\nEntre ambition\, passion et exigences du quotidien\, l’entrepreneuriat peut rapidement devenir un marathon. Et si la réussite entrepreneuriale pouvait aussi rimer avec équilibre\, clarté et énergie durable ? Lors de ce Webi’Lunch\, découvrez une autre façon d’envisager votre projet entrepreneurial : un modèle où la performance s’aligne avec vos valeurs\, votre rythme et votre vision du succès. \nInscrivez-vous et repartez avec des clés concrètes pour entreprendre avec ambition\, clarté et énergie. ✨ \n• Pourquoi participer à ce Webi’Lunch ? •\n✔ Prendre du recul sur votre façon d’entreprendre et votre définition du succès\n✔ Découvrir une approche de l’entrepreneuriat qui allie ambition et équilibre\n✔ Identifier des pistes concrètes pour construire un business plus aligné avec votre rythme\n✔ Bénéficier de l’expérience et du regard stratégique de l’oratrice\n✔ Repartir avec des clés pratiques pour entreprendre avec plus de clarté et d’énergie \n• Formatrice •\nValérie Renier accompagne les entrepreneur·e·s et petites entreprises dans le développement de leur stratégie business\, marketing et communication. Forte de près de vingt ans d’expérience dans des environnements exigeants et au sein de comités de direction\, elle a contribué à développer des marques\, lancer des produits et accompagner des décisions stratégiques pour faire évoluer des entreprises. \nAujourd’hui\, à travers son activité Value Strategy\, elle met son expertise au service de projets à taille humaine avec une conviction forte : permettre aux entrepreneur·e·s de construire un business rentable\, cohérent et aligné avec leurs propres critères de succès et d’équilibre. Elle travaille aussi bien sur le fond\, positionnement\, stratégie que sur la forme\, afin d’offrir aux projets qu’elle accompagne clarté\, cohérence et impact. \nValérie Renier \n 
URL:https://www.walhardent.be/evenement/webilunch-entreprendre-sans-sepuiser-reseau-diane/
LOCATION:Evèment en Ligne
CATEGORIES:Ateliers-formations,En ligne - Online,Webinaires
ATTACH;FMTTYPE=image/png:https://www.walhardent.be/wp-content/uploads/2025/10/Reseau-Diane.png
END:VEVENT
END:VCALENDAR