BEGIN:VCALENDAR
VERSION:2.0
PRODID:-//Walhardent - ECPv6.15.20//NONSGML v1.0//EN
CALSCALE:GREGORIAN
METHOD:PUBLISH
X-WR-CALNAME:Walhardent
X-ORIGINAL-URL:https://www.walhardent.be
X-WR-CALDESC:Évènements pour Walhardent
REFRESH-INTERVAL;VALUE=DURATION:PT1H
X-Robots-Tag:noindex
X-PUBLISHED-TTL:PT1H
BEGIN:VTIMEZONE
TZID:Europe/Paris
BEGIN:DAYLIGHT
TZOFFSETFROM:+0100
TZOFFSETTO:+0200
TZNAME:CEST
DTSTART:20250330T010000
END:DAYLIGHT
BEGIN:STANDARD
TZOFFSETFROM:+0200
TZOFFSETTO:+0100
TZNAME:CET
DTSTART:20251026T010000
END:STANDARD
BEGIN:DAYLIGHT
TZOFFSETFROM:+0100
TZOFFSETTO:+0200
TZNAME:CEST
DTSTART:20260329T010000
END:DAYLIGHT
BEGIN:STANDARD
TZOFFSETFROM:+0200
TZOFFSETTO:+0100
TZNAME:CET
DTSTART:20261025T010000
END:STANDARD
BEGIN:DAYLIGHT
TZOFFSETFROM:+0100
TZOFFSETTO:+0200
TZNAME:CEST
DTSTART:20270328T010000
END:DAYLIGHT
BEGIN:STANDARD
TZOFFSETFROM:+0200
TZOFFSETTO:+0100
TZNAME:CET
DTSTART:20271031T010000
END:STANDARD
END:VTIMEZONE
BEGIN:VEVENT
DTSTART;TZID=Europe/Paris:20260522T083000
DTEND;TZID=Europe/Paris:20260522T130000
DTSTAMP:20260425T024027
CREATED:20260317T095220Z
LAST-MODIFIED:20260317T095220Z
UID:11616-1779438600-1779454800@www.walhardent.be
SUMMARY:Vendredi 22 mai 2026 - AKT CCI - Masterclass Douanes
DESCRIPTION:Masterclass Douanes – Formalités et documents\nClients ou fournisseurs étrangers : quelles démarches accompagnent le développement de vos affaires ? \nObjectifs de la formation\nVous avez décidé de prospecter à l’étranger ? Vous désirez trouver de nouveaux débouchés ou vous recherchez de nouveaux fournisseurs en dehors de l’Union ? Vous voulez diversifier votre sourcing ? \nVous savez que ces démarches vont entraîner des formalités douanières mais vous ne savez ni lesquelles\, ni comment vous y prendre ? \nQuels documents seront nécessaires et dans quels cas ? Comment s’assurer d’être en conformité avec la réglementation ? \nNous aborderons vos obligations en la matière. \nPourquoi participer à cette formation ?\nOptimisez vos opérations d’exportation en maîtrisant les documents douaniers nécessaires. Cette 5ème Masterclass vous permettra de : \nIdentifier les documents essentiels pour vos expéditions internationales\nComprendre les exigences réglementaires et éviter les erreurs administratives\nGagner en efficacité et en conformité dans vos démarches d’exportation\nFaciliter le passage des marchandises aux frontières et réduire les délais\nLe cycle Masterclass douanes \nUn nouveau cycle “Masterclass Douanes” démarre le 2 décembre 2025. Les 6 Masterclasses se veulent pratico-pratiques\, avec des exemples concrets et des partages d’expériences entre pairs. \nLes thèmes abordés : \nActualités douanières (02/12/25)\nClassement des marchandises et tarif douanier (30/01/26)\nLes régimes douaniers particuliers (06/03/26)\nValeur en douane (03/04/26)\nDocuments et formalités (22/05/26)\nOrigine préférentielle des marchandises (04/06/26)\nPour une meilleure interactivité\, nous limitons le nombre de participants à 8 \nPublic cible\nCe cycle est destiné aux personnes en charge des diverses formalités liées au commerce international au sein de leur entreprise et ayant déjà quelques connaissances en la matière. \nSi vous êtes novices\, nous vous recommandons alors plutôt la formation douanes de base qui aura lieu les 12 et 19 mars 2026. \nNotre experte\nCaroline Dorignaux\nConsultante et formatrice en douane et accises\nReprésentante en douane agréée par l’Administration belge des Douanes et Accises\nSecrétaire générale de Customspliance\, l’Association belge francophone des Professionnels de la Douane\nProfesseure invitée à la Haute École Condorcet Charleroi\, où elle enseigne les techniques douanières\nForte d’une carrière de plus de 15 ans\, Caroline a accompagné de nombreuses entreprises dans leur développement à l’international\, offrant une expertise pointue et des solutions personnalisées. \nLa formation est dispensée par BDO Academy\, organisme de formation accrédité par l’administration générale des douanes et accises (AGD&A). Une attestation de présence sera remise. \n 
URL:https://www.walhardent.be/evenement/vendredi-22-mai-2026-akt-cci-masterclass-douanes/
LOCATION:AKT – CCI LVN\, Av du Parc 42\, HERVE\, Liège\, 4650\, Belgique
CATEGORIES:Ateliers-formations,Masterclass
ATTACH;FMTTYPE=image/png:https://www.walhardent.be/wp-content/uploads/2025/09/CCI_LVN_Positif-scaled.png
END:VEVENT
END:VCALENDAR