BEGIN:VCALENDAR
VERSION:2.0
PRODID:-//Walhardent - ECPv6.15.20//NONSGML v1.0//EN
CALSCALE:GREGORIAN
METHOD:PUBLISH
X-WR-CALNAME:Walhardent
X-ORIGINAL-URL:https://www.walhardent.be
X-WR-CALDESC:Évènements pour Walhardent
REFRESH-INTERVAL;VALUE=DURATION:PT1H
X-Robots-Tag:noindex
X-PUBLISHED-TTL:PT1H
BEGIN:VTIMEZONE
TZID:Europe/Paris
BEGIN:DAYLIGHT
TZOFFSETFROM:+0100
TZOFFSETTO:+0200
TZNAME:CEST
DTSTART:20250330T010000
END:DAYLIGHT
BEGIN:STANDARD
TZOFFSETFROM:+0200
TZOFFSETTO:+0100
TZNAME:CET
DTSTART:20251026T010000
END:STANDARD
BEGIN:DAYLIGHT
TZOFFSETFROM:+0100
TZOFFSETTO:+0200
TZNAME:CEST
DTSTART:20260329T010000
END:DAYLIGHT
BEGIN:STANDARD
TZOFFSETFROM:+0200
TZOFFSETTO:+0100
TZNAME:CET
DTSTART:20261025T010000
END:STANDARD
BEGIN:DAYLIGHT
TZOFFSETFROM:+0100
TZOFFSETTO:+0200
TZNAME:CEST
DTSTART:20270328T010000
END:DAYLIGHT
BEGIN:STANDARD
TZOFFSETFROM:+0200
TZOFFSETTO:+0100
TZNAME:CET
DTSTART:20271031T010000
END:STANDARD
END:VTIMEZONE
BEGIN:VEVENT
DTSTART;TZID=Europe/Paris:20260424T110000
DTEND;TZID=Europe/Paris:20260424T150000
DTSTAMP:20260424T015303
CREATED:20260320T084617Z
LAST-MODIFIED:20260320T084617Z
UID:11702-1777028400-1777042800@www.walhardent.be
SUMMARY:Vendredi 24 avril 2026 - SymbiOZ - Séance d’information «Bien-être et Leadership»
DESCRIPTION:« Bien-être et Leadership »\nLunch Inspirant avec Liantis au cœur de l’Orchestre Philharmonique Royal de Liège \nEt si le networking devenait une expérience harmonieuse ? \nAvec Liantis\, le bien être\, le leadership et l’inspiration prennent place dans un cadre d’exception…\nParce que la vie d’entrepreneur\, comme la musique\, se nourrit d’équilibre\, de rythme et de nuances. \nEn tant que client Liantis\, l’Orchestre Philharmonique Royal de Liège nous ouvre ses portes pour un lunch hors du temps\, mêlant échanges professionnels\, découvertes inspirantes et rencontres d’experts. \nUn moment suspendu\, pensé pour vous ressourcer\, vous éclairer et vous connecter autrement. \n🎤 Au programme :\nA travers Liantis\, trois voix\, trois regards\, un même élan vers le mieux être et la performance\, abordant : \nFrançois Meurisse\, ostéopathe D.O. et anat/physio/neuro teacher:\nUn regard éclairant sur la manière dont nos habitudes influencent notre vitalité et notre efficacité au quotidien. \nJennifer Swerts\, coach et consultante en leadership & management :\nDévelopper une posture managériale qui inspire et responsabilise\, en activant les vrais leviers de motivation pour un leadership humain\, ancré dans le quotidien. \n⭐ Notre invité spécial : Loïc Goffart\, entrepreneur\, communicant authentique et personnalité inspirante\, quart de finaliste d’Objectif Top Chef en 2019 et finaliste des Étoiles du Chocolat Belge de la RTBF en 2024.\nIl nous livrera un témoignage vibrant sur l’art de révéler les talents qui ne rentrent pas dans les cases.\nArchitecte de formation\, Loïc Goffart a suivi son cœur pour se consacrer à sa passion : la pâtisserie. \n🕛Timing : \n11h00 : Accueil et introduction\n11h30 : Conférences\n13h30-15h00 : Lunch et networking. Nous vous y réserverons quelques petites surprises….
URL:https://www.walhardent.be/evenement/vendredi-24-avril-2026-symbioz-seance-dinformation-bien-etre-et-leadership/
LOCATION:Orchestre Philharmonique Royal de Liège\, Boulevard Piercot 25-27\, LIRHR\, Liège\, 4000\, Belgique
CATEGORIES:Lunch,Rencontres,Réseautage - Networking,Séance d'Information
ATTACH;FMTTYPE=image/jpeg:https://www.walhardent.be/wp-content/uploads/2025/10/Symbioz.jpg
ORGANIZER;CN="SymbiOZ ASBL":MAILTO:info@symbioz.org
END:VEVENT
BEGIN:VEVENT
DTSTART;TZID=Europe/Paris:20260424T120000
DTEND;TZID=Europe/Paris:20260424T140000
DTSTAMP:20260424T015303
CREATED:20260327T093801Z
LAST-MODIFIED:20260327T093802Z
UID:11829-1777032000-1777039200@www.walhardent.be
SUMMARY:Webi’Lunch // Entreprendre sans s’épuiser - Réseau Diane
DESCRIPTION:Webi’Lunch // Entreprendre sans s’épuiser\nDiane\, le réseau d’affaires féminin boosté par UCM\, vous présente le Webi’Lunch « Entreprendre sans s’épuiser »\nEntre ambition\, passion et exigences du quotidien\, l’entrepreneuriat peut rapidement devenir un marathon. Et si la réussite entrepreneuriale pouvait aussi rimer avec équilibre\, clarté et énergie durable ? Lors de ce Webi’Lunch\, découvrez une autre façon d’envisager votre projet entrepreneurial : un modèle où la performance s’aligne avec vos valeurs\, votre rythme et votre vision du succès. \nInscrivez-vous et repartez avec des clés concrètes pour entreprendre avec ambition\, clarté et énergie. ✨ \n• Pourquoi participer à ce Webi’Lunch ? •\n✔ Prendre du recul sur votre façon d’entreprendre et votre définition du succès\n✔ Découvrir une approche de l’entrepreneuriat qui allie ambition et équilibre\n✔ Identifier des pistes concrètes pour construire un business plus aligné avec votre rythme\n✔ Bénéficier de l’expérience et du regard stratégique de l’oratrice\n✔ Repartir avec des clés pratiques pour entreprendre avec plus de clarté et d’énergie \n• Formatrice •\nValérie Renier accompagne les entrepreneur·e·s et petites entreprises dans le développement de leur stratégie business\, marketing et communication. Forte de près de vingt ans d’expérience dans des environnements exigeants et au sein de comités de direction\, elle a contribué à développer des marques\, lancer des produits et accompagner des décisions stratégiques pour faire évoluer des entreprises. \nAujourd’hui\, à travers son activité Value Strategy\, elle met son expertise au service de projets à taille humaine avec une conviction forte : permettre aux entrepreneur·e·s de construire un business rentable\, cohérent et aligné avec leurs propres critères de succès et d’équilibre. Elle travaille aussi bien sur le fond\, positionnement\, stratégie que sur la forme\, afin d’offrir aux projets qu’elle accompagne clarté\, cohérence et impact. \nValérie Renier \n 
URL:https://www.walhardent.be/evenement/webilunch-entreprendre-sans-sepuiser-reseau-diane/
LOCATION:Evèment en Ligne
CATEGORIES:Ateliers-formations,En ligne - Online,Webinaires
ATTACH;FMTTYPE=image/png:https://www.walhardent.be/wp-content/uploads/2025/10/Reseau-Diane.png
END:VEVENT
BEGIN:VEVENT
DTSTART;TZID=Europe/Paris:20260424T120000
DTEND;TZID=Europe/Paris:20260424T143000
DTSTAMP:20260424T015303
CREATED:20260317T092926Z
LAST-MODIFIED:20260317T092927Z
UID:11612-1777032000-1777041000@www.walhardent.be
SUMMARY:Vendredi 24 avril 2026 - AKT CCI - Backstage
DESCRIPTION:Backstage : Ateliers Menchior\nDécouvrez les dessous d’un artisan du patrimoine et connectez-vous avec les entrepreneurs de votre région.\nBackstage !\nUn événement de networking unique alliant découverte\, inspiration et rencontres professionnelles. Un moment immersif au cours duquel nous vous ouvrons les portes des « coulisses » d’un lieu exceptionnel\, suivi d’un repas convivial. \nVous les admirez partout… sans jamais savoir qui les a créés\nPour ce nouvel épisode du cycle Backstage\, AKT – CCI LVN vous invite à une immersion unique au cœur des Ateliers Menchior\, un atelier artisanal emblématique spécialisé dans la création et la restauration d’ornements en plâtre\, staff et stuc depuis 1850. \nCe qui vous attend : \nune visite guidée exclusive des ateliers de fabrication et de restauration de cet artisan du patrimoine liégeois\, encore aujourd’hui mené par la même famille depuis six générations.\nune immersion inspirante dans un savoir-faire artisanal traditionnel\, mêlant sculpture\, ornementation et restauration patrimoniale.\nune occasion rare de découvrir des techniques anciennes et précieuses\, utilisées sur des bâtiments historiques en Belgique et en Europe.\nUn moment de networking privilégié\, entouré d’entrepreneurs et de décideurs de la région. \nPourquoi participer à cet événement\nPour vivre une expérience privilégiée\, en découvrant un artisanat d’excellence souvent méconnu.\nPour échanger dans un cadre original et inspirant\, hors des circuits professionnels traditionnels.\nPour rencontrer des dirigeants et entrepreneurs de votre région et renforcer votre réseau professionnel.\nPour développer votre curiosité et votre culture d’entreprise en explorant des savoir-faire patrimoniaux uniques.\nEvénement réservé aux membres d’AKT – CCI LVN
URL:https://www.walhardent.be/evenement/vendredi-24-avril-2026-akt-cci-backstage/
LOCATION:Liège
CATEGORIES:BACKSTAGE,Réseautage - Networking,Visites guidées
ATTACH;FMTTYPE=image/png:https://www.walhardent.be/wp-content/uploads/2025/09/CCI_LVN_Positif-scaled.png
ORGANIZER;CN="AKT CCI Li%C3%A8ge-Verviers-Namur":MAILTO:info@ccilvn.be
END:VEVENT
END:VCALENDAR