BEGIN:VCALENDAR
VERSION:2.0
PRODID:-//Walhardent - ECPv6.15.20//NONSGML v1.0//EN
CALSCALE:GREGORIAN
METHOD:PUBLISH
X-WR-CALNAME:Walhardent
X-ORIGINAL-URL:https://www.walhardent.be
X-WR-CALDESC:Évènements pour Walhardent
REFRESH-INTERVAL;VALUE=DURATION:PT1H
X-Robots-Tag:noindex
X-PUBLISHED-TTL:PT1H
BEGIN:VTIMEZONE
TZID:Europe/Paris
BEGIN:DAYLIGHT
TZOFFSETFROM:+0100
TZOFFSETTO:+0200
TZNAME:CEST
DTSTART:20250330T010000
END:DAYLIGHT
BEGIN:STANDARD
TZOFFSETFROM:+0200
TZOFFSETTO:+0100
TZNAME:CET
DTSTART:20251026T010000
END:STANDARD
BEGIN:DAYLIGHT
TZOFFSETFROM:+0100
TZOFFSETTO:+0200
TZNAME:CEST
DTSTART:20260329T010000
END:DAYLIGHT
BEGIN:STANDARD
TZOFFSETFROM:+0200
TZOFFSETTO:+0100
TZNAME:CET
DTSTART:20261025T010000
END:STANDARD
BEGIN:DAYLIGHT
TZOFFSETFROM:+0100
TZOFFSETTO:+0200
TZNAME:CEST
DTSTART:20270328T010000
END:DAYLIGHT
BEGIN:STANDARD
TZOFFSETFROM:+0200
TZOFFSETTO:+0100
TZNAME:CET
DTSTART:20271031T010000
END:STANDARD
END:VTIMEZONE
BEGIN:VEVENT
DTSTART;TZID=Europe/Paris:20260421T130000
DTEND;TZID=Europe/Paris:20260421T190000
DTSTAMP:20260421T015627
CREATED:20260327T104112Z
LAST-MODIFIED:20260327T104112Z
UID:11839-1776776400-1776798000@www.walhardent.be
SUMMARY:Pitch & Plug - Plug.R
DESCRIPTION:Pitch&Plug\nLe Pitch&Plug\, c’est une après-midi pour pitcher ton projet devant un panel d’experts\, obtenir des feedbacks\, des conseils et créer des connections durables avec d’autres porteurs de projet. \nC’est l’occasion rêvée pour avoir un retour concret sur ton projet\, et de ressortir de là avec une vision plus claire et un plan d’action précis.
URL:https://www.walhardent.be/evenement/pitch-plug-plug-r/
LOCATION:Liège
CATEGORIES:Echanges Professionnels,Rencontres,Réseautage - Networking
ORGANIZER;CN="Plug-R":MAILTO:hello@plug-r.be
END:VEVENT
BEGIN:VEVENT
DTSTART;TZID=Europe/Paris:20260421T180000
DTEND;TZID=Europe/Paris:20260421T210000
DTSTAMP:20260421T015627
CREATED:20260410T121647Z
LAST-MODIFIED:20260410T122258Z
UID:11935-1776794400-1776805200@www.walhardent.be
SUMMARY:Apéro&Conférence: Créer des expériences qui marquent - Spaces
DESCRIPTION:Spaces Liège Guillemins  a le plaisir de vous convier à l’apéro & conférence du mois d’avril. \n🎤 Avec Gilles Hensay\,\n👉 Fondateur de l’agence de voyage BAONI \n🍷 Verre d’accueil offert par Luyck Urban Winery\, un chai urbain liégeois qui élabore des vins créatifs et audacieux au cœur de la ville\, dans des caves historiques. \n📅 Le 21 avril 2026 à 18h00\n📍 SPACES Liège-Guillemins \n🕒 Programme \n• 18h00 – Accueil & verre de bienvenue\n• 18h45 – Conférence\n• 19h15 – Drink & networking \n💸 Prix : 5€ + 1 verre offert\n(Gratuit pour les membres SPACES) \nUn moment idéal pour apprendre\, échanger et développer votre réseau dans une ambiance détendue et inspirante 🍸 \n📩 Inscription : reception.guillemins@spacesworks.com\n👉 Les places sont limitées.\n👉 Événement Linkedin
URL:https://www.walhardent.be/evenement/apero-conference-creer-des-experiences-qui-marquent-spaces/
LOCATION:Spaces Liège‑Guillemins\, Rue des Guillemins 139\, Liège\, Liège\, 4000\, Belgium
CATEGORIES:Afterwork,Conférence,Rencontres
ATTACH;FMTTYPE=image/png:https://www.walhardent.be/wp-content/uploads/2026/04/spaces-liege-guillemins.png
ORGANIZER;CN="Spaces Li%C3%A8ge-Guillemins":MAILTO:reception.guillemins@spacesworks.com
END:VEVENT
BEGIN:VEVENT
DTSTART;TZID=Europe/Paris:20260421T183000
DTEND;TZID=Europe/Paris:20260421T213000
DTSTAMP:20260421T015627
CREATED:20260324T090029Z
LAST-MODIFIED:20260324T090029Z
UID:11744-1776796200-1776807000@www.walhardent.be
SUMMARY:Diabète - Le Grand Liège
DESCRIPTION:DIABÈTE : QUELS DÉFIS EN 2026 ?
URL:https://www.walhardent.be/evenement/diabete-le-grand-liege/
LOCATION:Bocholtz\, Pl\, Place Saint-Michel 80\, Liège\, 4000\, Belgique
CATEGORIES:Conférence Thématique
ATTACH;FMTTYPE=image/png:https://www.walhardent.be/wp-content/uploads/2025/01/Le-Grand-Liege-ASBL.png
ORGANIZER;CN="Le Grand Li%C3%A8ge":MAILTO:grand.liege@skynet.be
END:VEVENT
END:VCALENDAR